BEGIN:VCALENDAR
VERSION:2.0
PRODID:-//ChamberMaster//Event Calendar 2.0//EN
METHOD:PUBLISH
X-PUBLISHED-TTL:P3D
REFRESH-INTERVAL:P3D
CALSCALE:GREGORIAN
BEGIN:VEVENT
DTSTART:20200415T200000Z
DTEND:20200415T210000Z
X-MICROSOFT-CDO-ALLDAYEVENT:FALSE
SUMMARY:Live Webinar on the Work Share Program with Service Canada
DESCRIPTION:Work Share Program with Service Canada\, do you want to know how it works? Do you have questions about what documents you need? \n\n\n\nJoin our webinar on April 15\, 2020 and speak to France Trembley-Franc from Service Canada about the program
X-ALT-DESC;FMTTYPE=text/html:Work Share Program with Service Canada\, do you want to know how it works? Do you have questions about what documents you need?&nbsp\;<br />\n<br />\nJoin our webinar on April 15\, 2020 and speak to France Trembley-Franc from Service Canada about the program&nbsp\;<br />\n<br />\n&nbsp\;
LOCATION:Links for the Webinar will be sent at 9:00 a.m on Wednesday\, April 15\, 2020.
UID:e.1649.6473
SEQUENCE:3
DTSTAMP:20260419T200814Z
URL:http://princealbertchamber.chambermaster.com/events/details/live-webinar-on-the-work-share-program-with-service-canada-6473
END:VEVENT

END:VCALENDAR
